BEGIN:VCALENDAR
VERSION:2.0
PRODID:Events Booking
BEGIN:VEVENT
UID:69e9be542d273
SUMMARY:CPUX-F Intensivkurs 5 Module a 4 Stunden Vormittags DEUTSCH UA1013
DESCRIPTION:Do you speak Usability? Diese Frage können Sie nach dem UX Sem
 inar beantworten.
 In 5 Modulen UX Training basierend auf dem Curriculum 
 UXQB® mit Option zur Zertifizierung als \"Certified Professional for Usab
 ility and User Experience — Foundation Level (CPUX-F)\".
 Die Schulung 
 basiert auf der neusten Version des&nbsp\; Curriculums desUXQB® vom Janua
 r 2023.
LOCATION:V-ClassRoom-XL Virtuell
DTSTART:20240624T070000Z
DTEND:20240628T110000Z
DTSTAMP:20231004T092406Z
ORGANIZER;CN=Usability Academy:MAILTO:info@Usability-Academy.com
END:VEVENT
END:VCALENDAR